BEGIN:VCALENDAR
VERSION:2.0
PRODID:-//ChamberMaster//Event Calendar 2.0//EN
METHOD:PUBLISH
X-PUBLISHED-TTL:P3D
REFRESH-INTERVAL:P3D
CALSCALE:GREGORIAN
BEGIN:VEVENT
DTSTART;VALUE=DATE:20110220
DTEND;VALUE=DATE:20110221
TRANSP:TRANSPARENT
X-MICROSOFT-CDO-ALLDAYEVENT:TRUE
SUMMARY:Spelling Bee
DESCRIPTION:Spelling Bee\n\n\n\nSunday\, February 20\n\n1 p.m.\n\n\n\nat Old West Trails Center\n\nMain Street\, Odell
X-ALT-DESC;FMTTYPE=text/html:Spelling Bee<br />\n<br />\nSunday\, February 20<br />\n1 p.m.<br />\n<br />\nat Old West Trails Center<br />\nMain Street\, Odell
LOCATION:
UID:e.41.4188
SEQUENCE:3
DTSTAMP:20260424T225314Z
URL:https://business.beatricechamber.com/events/details/spelling-bee-02-20-2011-4188
END:VEVENT

END:VCALENDAR
