BEGIN:VCALENDAR
VERSION:2.0
PRODID:-//ChamberMaster//Event Calendar 2.0//EN
METHOD:PUBLISH
X-PUBLISHED-TTL:P3D
REFRESH-INTERVAL:P3D
CALSCALE:GREGORIAN
BEGIN:VEVENT
DTSTART:20120826T000000Z
DTEND:20120826T000000Z
X-MICROSOFT-CDO-ALLDAYEVENT:FALSE
SUMMARY:Spend the Evening with Astronaut Clayton Anderson
DESCRIPTION:NASA Astronaut Clayton Anderson will present a program on the new space frontier. During the presentation\, he will discuss space exploration and share stories of what life was like aboard the International Space Station. As a veteran of two space flights\, Anderson has logged more than 167 days in space. Educational resources and autographed photos will be available for the public.
X-ALT-DESC;FMTTYPE=text/html:<div style="color: gray">\n	<span style="font-size: 10pt"><span style="color: #857458"><span style="font-family: arial\, sans-serif">NASA Astronaut Clayton Anderson will present a program on the new space frontier. During the presentation\, he will discuss space exploration and share stories of what life was like aboard the International Space Station. As a veteran of two space flights\, Anderson has logged more than 167 days in space. Educational resources and autographed photos will be available for the public.&nbsp\;</span></span></span></div>\n
LOCATION:The program will take place at the Education Center at the Homestead National Monument and will be the finale of the campfire events for 2012.
UID:e.41.6604
SEQUENCE:3
DTSTAMP:20260422T100734Z
URL:https://business.beatricechamber.com/events/details/spend-the-evening-with-astronaut-clayton-anderson-08-25-2012-6604
END:VEVENT

END:VCALENDAR
