BEGIN:VCALENDAR
VERSION:2.0
PRODID:-//ChamberMaster//Event Calendar 2.0//EN
METHOD:PUBLISH
X-PUBLISHED-TTL:P3D
REFRESH-INTERVAL:P3D
CALSCALE:GREGORIAN
BEGIN:VEVENT
DTSTART:20110514T160000Z
DTEND:20110514T183000Z
X-MICROSOFT-CDO-ALLDAYEVENT:FALSE
SUMMARY:SPIRIT DANCE COMPANY AUDITIONS
DESCRIPTION:Auditions for Dance Company classes for the more serious dancer seeking more performance opportunity's and more technical training.\n\n11am:  ages 8-10\n\n12pm\;  ages 11-13 \n\n12:45pm:  ages 14-19
X-ALT-DESC;FMTTYPE=text/html:Auditions for Dance Company classes for the more serious dancer seeking more performance opportunity's and more technical training.\n<br>11am:  ages 8-10\n<br>12pm\;  ages 11-13 \n<br>12:45pm:  ages 14-19 
LOCATION:REFLECTIONS OF SOUL DANCE STUDIO 118 North 7th Street\, Beatrice
UID:e.41.4602
SEQUENCE:3
DTSTAMP:20260424T183801Z
URL:https://business.beatricechamber.com/events/details/spirit-dance-company-auditions-05-14-2011-4602
END:VEVENT

END:VCALENDAR
