BEGIN:VCALENDAR
VERSION:2.0
PRODID:-//ChamberMaster//Event Calendar 2.0//EN
METHOD:PUBLISH
X-PUBLISHED-TTL:P3D
REFRESH-INTERVAL:P3D
CALSCALE:GREGORIAN
BEGIN:VEVENT
DTSTART:20090717T230000Z
DTEND:20090718T020000Z
X-MICROSOFT-CDO-ALLDAYEVENT:FALSE
SUMMARY:Sports Nightly Radio Broadcase Live from Classic's
DESCRIPTION:Sports Nightly is taking their popular radio talk show on the road and it's coming to Beatrice on Friday July 17 at the Beatrice Country Club. The show broadcasts LIVE beginning at 6pm and running until 9pm.  Ex-Husker quarterback Joe Ganz will be with the regular Sports Nightly crew and some possible other surprise guests are in the works. The event is open to the public.  For radio listeners the show is broadcast on Beatrice 1450 KWBE.
X-ALT-DESC;FMTTYPE=text/html:<div><font face="Verdana" size="2">Sports Nightly is taking their popular radio talk show on the road and it's coming to Beatrice on <strong>Friday July 17</strong> at the Beatrice Country Club. The show broadcasts LIVE beginning at 6pm and running until 9pm. </font></div><div>&nbsp\;</div><div><font face="Verdana" size="2">Ex-Husker quarterback Joe Ganz will be with the regular Sports Nightly crew and some possible other surprise guests are in the works. The event is open to the public. </font></div><div>&nbsp\;</div><div><font face="Verdana" size="2">For radio listeners the show is broadcast on Beatrice 1450 KWBE.</font></div>
LOCATION:
UID:e.41.1289
SEQUENCE:3
DTSTAMP:20260426T030417Z
URL:https://business.beatricechamber.com/events/details/sports-nightly-radio-broadcase-live-from-classic-s-07-17-2009-1289
END:VEVENT

END:VCALENDAR
