BEGIN:VCALENDAR
VERSION:2.0
PRODID:-//ChamberMaster//Event Calendar 2.0//EN
METHOD:PUBLISH
X-PUBLISHED-TTL:P3D
REFRESH-INTERVAL:P3D
CALSCALE:GREGORIAN
BEGIN:VEVENT
DTSTART;VALUE=DATE:20110627
DTEND;VALUE=DATE:20110628
TRANSP:TRANSPARENT
X-MICROSOFT-CDO-ALLDAYEVENT:TRUE
SUMMARY:Spring Bake and Craft Sale\, the Noah's Assistance Dogs of Crete
DESCRIPTION:4 p.m. sale\; 5:30 p.m. meal\, Beatrice Senior Center\, 101 N. 25th\, Beatrice.  Call one day prior for meal reservations to 402-223-1357.
X-ALT-DESC;FMTTYPE=text/html:4 p.m. sale\; 5:30 p.m. meal\, Beatrice Senior Center\, 101 N. 25th\, Beatrice.&nbsp\; Call one day prior for meal reservations to 402-223-1357.
LOCATION:
UID:e.41.4932
SEQUENCE:3
DTSTAMP:20260424T170012Z
URL:https://business.beatricechamber.com/events/details/spring-bake-and-craft-sale-the-noah-s-assistance-dogs-of-crete-06-27-2011-4932
END:VEVENT

END:VCALENDAR
