BEGIN:VCALENDAR
VERSION:2.0
PRODID:-//ChamberMaster//Event Calendar 2.0//EN
METHOD:PUBLISH
X-PUBLISHED-TTL:P3D
REFRESH-INTERVAL:P3D
CALSCALE:GREGORIAN
BEGIN:VEVENT
DTSTART:20110408T140000Z
DTEND:20110408T230000Z
X-MICROSOFT-CDO-ALLDAYEVENT:FALSE
SUMMARY:Spring Bazaar
DESCRIPTION:Open House. Lots of winderful gifts for spring!\n\n\n\n1447 Hackberry RD\, Beatrice\, NE
X-ALT-DESC;FMTTYPE=text/html:Open House. Lots of winderful gifts for spring!<br />\n<br />\n1447 Hackberry RD\, Beatrice\, NE
LOCATION:
UID:e.41.4563
SEQUENCE:3
DTSTAMP:20260424T194750Z
URL:https://business.beatricechamber.com/events/details/spring-bazaar-04-08-2011-4563
END:VEVENT

END:VCALENDAR
