BEGIN:VCALENDAR
VERSION:2.0
PRODID:-//ChamberMaster//Event Calendar 2.0//EN
METHOD:PUBLISH
X-PUBLISHED-TTL:P3D
REFRESH-INTERVAL:P3D
CALSCALE:GREGORIAN
BEGIN:VEVENT
DTSTART:20110416T130000Z
DTEND:20110416T220000Z
X-MICROSOFT-CDO-ALLDAYEVENT:FALSE
SUMMARY:Spring Fling Craft Show by Jolene & Shirleen
DESCRIPTION:Spring Fling Craft Show by Jolene & Shirleen\n\n\n\nSaturday\, April 16\n\n8 am - 5 pm\n\n\n\n1922 Irving (right east of 19th Street)\n\n\n\nSpring & Easter Decorations\n\nMany One of a Kind Items\n\nScarfs\n\nSugar Eggs
X-ALT-DESC;FMTTYPE=text/html:<strong><span style="font-size: 14px">Spring Fling Craft Show by Jolene &amp\; Shirleen<br />\n<br />\nSaturday\, April 16<br />\n8 am - 5 pm</span></strong><br />\n<br />\n1922 Irving (right east of 19th Street)<br />\n<br />\nSpring &amp\; Easter Decorations<br />\nMany One of a Kind Items<br />\nScarfs<br />\nSugar Eggs<br />\n<br />\n
LOCATION:
UID:e.41.4247
SEQUENCE:3
DTSTAMP:20260424T200159Z
URL:https://business.beatricechamber.com/events/details/spring-fling-craft-show-by-jolene-shirleen-04-16-2011-4247
END:VEVENT

END:VCALENDAR
