BEGIN:VCALENDAR
VERSION:2.0
PRODID:-//ChamberMaster//Event Calendar 2.0//EN
METHOD:PUBLISH
X-PUBLISHED-TTL:P3D
REFRESH-INTERVAL:P3D
CALSCALE:GREGORIAN
BEGIN:VEVENT
DTSTART:20110423T140000Z
DTEND:20110423T200000Z
X-MICROSOFT-CDO-ALLDAYEVENT:FALSE
SUMMARY:"Spring Into Fitness" Trail Walk
DESCRIPTION:Special "Spring Into Fitness" Trail Walk\n\n\n\nSaturday\, April 23\n\n9 am - 3 pm\n\n\n\nTrails of Homestead National Park\, west of Beatrice on Hwy 4\n\n\n\n9 am - 11 am\, walk with Fitness Challenge team members. \n\n1 - 3 pm\, PATCH walk.\n\n\n\nThis weeks' walk hosted by Friends of Homestead\, Beatrice Daily Sun\, Homestead National Monument of America and PATCH in celebration of National Park Week.\n\nwww.beatricene.com/patch
X-ALT-DESC;FMTTYPE=text/html:Special &quot\;Spring Into Fitness&quot\; Trail Walk<br />\n<br />\nSaturday\, April 23<br />\n9 am - 3 pm<br />\n<br />\nTrails of Homestead National Park\, west of Beatrice on Hwy 4<br />\n<br />\n9 am - 11 am\, walk with Fitness Challenge team members.&nbsp\;<br />\n1 - 3 pm\, PATCH walk.<br />\n<br />\nThis weeks&#39\; walk hosted by Friends of Homestead\, Beatrice Daily Sun\, Homestead National Monument of America and PATCH in celebration of National Park Week.<br />\nwww.beatricene.com/patch<br />\n
LOCATION:
UID:e.41.4597
SEQUENCE:3
DTSTAMP:20260424T195804Z
URL:https://business.beatricechamber.com/events/details/spring-into-fitness-trail-walk-04-23-2011-4597
END:VEVENT

END:VCALENDAR
