BEGIN:VCALENDAR
VERSION:2.0
PRODID:-//ChamberMaster//Event Calendar 2.0//EN
METHOD:PUBLISH
X-PUBLISHED-TTL:P3D
REFRESH-INTERVAL:P3D
CALSCALE:GREGORIAN
BEGIN:VEVENT
DTSTART;VALUE=DATE:20100325
DTEND;VALUE=DATE:20100328
TRANSP:TRANSPARENT
X-MICROSOFT-CDO-ALLDAYEVENT:TRUE
SUMMARY:Spring Nationals at the Speedway 3/2010
DESCRIPTION:Spring NationalsMarch 25 - 27\, 2010 Local racers and drivers from across the country make their way to Beatrice Speedway to kick off the 2010 racing season.  For more information:  www.beatricespeedway.com
X-ALT-DESC;FMTTYPE=text/html:<div>Spring Nationals</div><div>March 25 - 27\, 2010</div><div>&nbsp\;</div><div>Local racers and drivers from across the country make their way to Beatrice Speedway to kick off the 2010 racing season.&nbsp\;</div><div>&nbsp\;</div><div>For more information:&nbsp\; <a href="http://www.beatricespeedway.com">www.beatricespeedway.com</a></div><div>&nbsp\;</div>
LOCATION:
UID:e.41.1934
SEQUENCE:3
DTSTAMP:20260425T153054Z
URL:https://business.beatricechamber.com/events/details/spring-nationals-at-the-speedway-3-2010-03-25-2010-1934
END:VEVENT

END:VCALENDAR
