BEGIN:VCALENDAR
VERSION:2.0
PRODID:-//ChamberMaster//Event Calendar 2.0//EN
METHOD:PUBLISH
X-PUBLISHED-TTL:P3D
REFRESH-INTERVAL:P3D
CALSCALE:GREGORIAN
BEGIN:VEVENT
DTSTART;VALUE=DATE:20120427
DTEND;VALUE=DATE:20120430
TRANSP:TRANSPARENT
X-MICROSOFT-CDO-ALLDAYEVENT:TRUE
SUMMARY:Spring Show - Beatrice Art Guild
DESCRIPTION:Beatrice Art Guild Spring Show\n\n\n\nHeld upstairs in Plaza Building at 6th & Court in Historic Downtown Beatrice\n\n\n\n\n\nFriday\, April 27:  5 pm - 8 pm opening\n\nSaturday\, April 28:  10 am - 4 pm\n\nSunday\, April 29:  1 pm - 4 pm\n\n\n\nMembers art competition\n\nVintage quilts from members and Homestead Quilters\n\nForgotten Images by Dennis Zabel\n\n\n\nCall if more information needed\, Roselyn Shaffer\, 402-228-0426
X-ALT-DESC;FMTTYPE=text/html:Beatrice Art Guild Spring Show<br />\n<br />\nHeld upstairs in Plaza Building at 6th &amp\; Court in Historic Downtown Beatrice<br />\n<br />\n<br />\nFriday\, April 27:&nbsp\; 5 pm&nbsp\;- 8 pm opening<br />\nSaturday\, April 28:&nbsp\; 10 am - 4 pm<br />\nSunday\, April 29:&nbsp\;&nbsp\;1 pm - 4 pm<br />\n<br />\nMembers art competition<br />\nVintage quilts from members and Homestead Quilters<br />\nForgotten Images by Dennis Zabel<br />\n<br />\nCall if more information needed\, Roselyn Shaffer\, 402-228-0426
LOCATION:
UID:e.41.5437
SEQUENCE:3
DTSTAMP:20260422T154621Z
URL:https://business.beatricechamber.com/events/details/spring-show-beatrice-art-guild-04-27-2012-5437
END:VEVENT

END:VCALENDAR
