BEGIN:VCALENDAR
VERSION:2.0
PRODID:-//ChamberMaster//Event Calendar 2.0//EN
METHOD:PUBLISH
X-PUBLISHED-TTL:P3D
REFRESH-INTERVAL:P3D
CALSCALE:GREGORIAN
BEGIN:VEVENT
DTSTART;VALUE=DATE:20111128
DTEND;VALUE=DATE:20111203
TRANSP:TRANSPARENT
X-MICROSOFT-CDO-ALLDAYEVENT:TRUE
SUMMARY:Springer Spaniel Field Trials National Amateur Championship
DESCRIPTION:49th Annual National Amateur Championship (NAC) \n\n	Coming to Beatrice\, Nebraska\n\n	Monday\, November 28\, 2011\n\n	 \n\n	Over 120 English Springer Spaniels from the United States and Canada expected to compete.  Support Tourism in Gage County and Sponsor or Donate to This Event!  Click here for more information.
X-ALT-DESC;FMTTYPE=text/html:<p style="text-align: center">\n	<span style="font-size: small"><em><span style="color: #008000">49th Annual </span></em></span><strong><span style="color: #008000"><span style="font-size: large">National Amateur Championship (NAC)</span> </span></strong></p>\n<p style="text-align: center">\n	<span style="font-size: medium"><span style="color: #008000">Coming to Beatrice\, Nebraska</span></span><br />\n	<span style="font-size: medium"><strong><span style="color: #008000">Monday\, November 28\, 2011</span></strong></span><br />\n	&nbsp\;</p>\n<p>\n	<span style="font-size: medium">Over 120 English Springer Spaniels </span><span style="font-size: medium">from the United States and Canada expected to compete.&nbsp\;&nbsp\;</span><span style="font-size: medium"><strong>Support Tourism in Gage County and Sponsor or Donate to This Event!</strong>&nbsp\; </span><span style="font-size: medium"><span style="font-size: small"><a href="http://assets.colenient.com/images/articles/3/3-nac_fund_raising_letter_&amp\;_sponsor_form_2011.pdf" target="_blank" title="National Amateur Championship Sponsor Info"><span style="font-size: medium">Click here</span></a><span style="font-size: medium"> </span><span style="font-size: medium">for more information.</span></span></span></p>\n
LOCATION:
UID:e.41.5057
SEQUENCE:3
DTSTAMP:20260424T083554Z
URL:https://business.beatricechamber.com/events/details/springer-spaniel-field-trials-national-amateur-championship-11-28-2011-5057
END:VEVENT

END:VCALENDAR
