BEGIN:VCALENDAR
VERSION:2.0
PRODID:-//ChamberMaster//Event Calendar 2.0//EN
METHOD:PUBLISH
X-PUBLISHED-TTL:P3D
REFRESH-INTERVAL:P3D
CALSCALE:GREGORIAN
BEGIN:VEVENT
DTSTART:20091221T013000Z
DTEND:20091221T023000Z
X-MICROSOFT-CDO-ALLDAYEVENT:FALSE
SUMMARY:St John Sanctuary Band ''Another Contemporary Christmas''
DESCRIPTION:"Another Contemporary Christmas" will be presented by the St John Sanctuary Band.Join us at St John Lutheran Church701 North Sixth StreetFriday December 18th at 7:30 pmSunday December 20th at 4:00 pmFree admission to the concert. Freewill offering will be accepted to benefit Community Food Pantry The concert will feature favorite Christmas carols and songs\, old and new\, in a variety of styles!
X-ALT-DESC;FMTTYPE=text/html:<div>&quot\;Another Contemporary Christmas&quot\; will be presented by the St John Sanctuary Band.</div><div>Join us at St John Lutheran Church</div><div>701 North Sixth Street</div><div>Friday December 18th at 7:30 pm</div><div>Sunday December 20th at 4:00 pm</div><div>Free admission to the concert.&nbsp\;</div><div>Freewill offering will be accepted to benefit Community Food Pantry</div><div>&nbsp\;</div><div>The concert will feature favorite Christmas carols and songs\, old and new\, in a variety of styles!</div>
LOCATION:
UID:e.41.1565
SEQUENCE:3
DTSTAMP:20260425T194332Z
URL:https://business.beatricechamber.com/events/details/st-john-sanctuary-band-another-contemporary-christmas-12-20-2009-1565
END:VEVENT

END:VCALENDAR
