BEGIN:VCALENDAR
VERSION:2.0
PRODID:-//ChamberMaster//Event Calendar 2.0//EN
METHOD:PUBLISH
X-PUBLISHED-TTL:P3D
REFRESH-INTERVAL:P3D
CALSCALE:GREGORIAN
BEGIN:VEVENT
DTSTART:20101114T213000Z
DTEND:20101115T010000Z
X-MICROSOFT-CDO-ALLDAYEVENT:FALSE
SUMMARY:St. Mary's Fall Bazaar
DESCRIPTION:St. Mary's Fall Bazaar:\n\n\n\n3:30-7 p.m.\n\n\n\nSt. Mary's Catholic Church\, 115 North 11th St.\, Wymore.\n\nTurkey\, ham and the trimmings. Raffle. Baked goods bazaar.
X-ALT-DESC;FMTTYPE=text/html:<span style="font-size: 14px"><strong>St. Mary&#39\;s Fall Bazaar:</strong></span><br />\n<br />\n3:30-7 p.m.<br />\n<br />\nSt. Mary&#39\;s Catholic Church\, 115 North 11th St.\, Wymore.<br />\nTurkey\, ham and the trimmings. Raffle. Baked goods bazaar.
LOCATION:
UID:e.41.2810
SEQUENCE:3
DTSTAMP:20260425T032335Z
URL:https://business.beatricechamber.com/events/details/st-mary-s-fall-bazaar-11-14-2010-2810
END:VEVENT

END:VCALENDAR
