BEGIN:VCALENDAR
VERSION:2.0
PRODID:-//ChamberMaster//Event Calendar 2.0//EN
METHOD:PUBLISH
X-PUBLISHED-TTL:P3D
REFRESH-INTERVAL:P3D
CALSCALE:GREGORIAN
BEGIN:VEVENT
DTSTART:20110821T203000Z
DTEND:20110822T000000Z
X-MICROSOFT-CDO-ALLDAYEVENT:FALSE
SUMMARY:St. Mary's Ice Cream Social
DESCRIPTION:3:30 p.m.-7 p.m. 115 N. 11th\, Wymore.  Homemade ice cream & toppings\, BBQs & chips\, pie\, cake\, & brownies.
X-ALT-DESC;FMTTYPE=text/html:3:30 p.m.-7 p.m. 115 N. 11th\, Wymore.&nbsp\; Homemade ice cream &amp\; toppings\, BBQs &amp\; chips\, pie\, cake\, &amp\; brownies.
LOCATION:
UID:e.41.5030
SEQUENCE:3
DTSTAMP:20260424T134714Z
URL:https://business.beatricechamber.com/events/details/st-mary-s-ice-cream-social-08-21-2011-5030
END:VEVENT

END:VCALENDAR
