BEGIN:VCALENDAR
VERSION:2.0
PRODID:-//ChamberMaster//Event Calendar 2.0//EN
METHOD:PUBLISH
X-PUBLISHED-TTL:P3D
REFRESH-INTERVAL:P3D
CALSCALE:GREGORIAN
BEGIN:VEVENT
DTSTART:20110220T220000Z
DTEND:20110221T010000Z
X-MICROSOFT-CDO-ALLDAYEVENT:FALSE
SUMMARY:St. Mary's Soup & Pie Supper
DESCRIPTION:St. Mary's Soup & Pie Supper\n\n\n\nSunday\, February 20\n\n4 -7 p.m.\n\n\n\n115 N 11th Street\n\nWymore\n\n\n\nChili\, Vegetabe\, Ham & Bean Soups\n\n\n\nFreewill Offering
X-ALT-DESC;FMTTYPE=text/html:St. Mary&#39\;s Soup &amp\; Pie Supper<br />\n<br />\nSunday\, February 20<br />\n4 -7 p.m.<br />\n<br />\n115 N 11th Street<br />\nWymore<br />\n<br />\nChili\, Vegetabe\, Ham &amp\; Bean Soups<br />\n<br />\nFreewill Offering
LOCATION:
UID:e.41.4187
SEQUENCE:3
DTSTAMP:20260424T225601Z
URL:https://business.beatricechamber.com/events/details/st-mary-s-soup-pie-supper-02-20-2011-4187
END:VEVENT

END:VCALENDAR
