BEGIN:VCALENDAR
VERSION:2.0
PRODID:-//ChamberMaster//Event Calendar 2.0//EN
METHOD:PUBLISH
X-PUBLISHED-TTL:P3D
REFRESH-INTERVAL:P3D
CALSCALE:GREGORIAN
BEGIN:VEVENT
DTSTART;VALUE=DATE:20111008
DTEND;VALUE=DATE:20111009
TRANSP:TRANSPARENT
X-MICROSOFT-CDO-ALLDAYEVENT:TRUE
SUMMARY:St. Paul Parent-Teacher League annual Turkey Supper
DESCRIPTION:St. Paul Parent-Teacher League annual Turkey Supper\n\n\n\nSaturday\, October 8\n\n5 - 7:30 pm\n\n\n\nSt. Paul Lutheran School\, 930 Prairie Lane\, Beatrice.\n\n\n\nTickets: $8 adults\; $4 children 10 & younger\; available in advance only.  Carry-out service available\; request at time of ticket purchase.  Tickets available from St. Paul students and parents\; Dale's Auto\; Melron's\; ticket chairperson\, Stacy Church\, 402-228-3600.
X-ALT-DESC;FMTTYPE=text/html:St. Paul Parent-Teacher League annual Turkey Supper<br />\n<br />\nSaturday\, October 8<br />\n5 - 7:30 pm<br />\n<br />\nSt. Paul Lutheran School\, 930 Prairie Lane\, Beatrice.<br />\n<br />\nTickets: $8 adults\; $4 children 10 &amp\; younger\; available in advance only.&nbsp\; Carry-out service available\; request at time of ticket purchase.&nbsp\; Tickets available from St. Paul students and parents\; Dale&#39\;s Auto\; Melron&#39\;s\; ticket chairperson\, Stacy Church\, 402-228-3600.
LOCATION:
UID:e.41.5169
SEQUENCE:3
DTSTAMP:20260424T111830Z
URL:https://business.beatricechamber.com/events/details/st-paul-parent-teacher-league-annual-turkey-supper-10-08-2011-5169
END:VEVENT

END:VCALENDAR
