BEGIN:VCALENDAR
VERSION:2.0
PRODID:-//ChamberMaster//Event Calendar 2.0//EN
METHOD:PUBLISH
X-PUBLISHED-TTL:P3D
REFRESH-INTERVAL:P3D
CALSCALE:GREGORIAN
BEGIN:VEVENT
DTSTART;VALUE=DATE:20120121
DTEND;VALUE=DATE:20120122
TRANSP:TRANSPARENT
X-MICROSOFT-CDO-ALLDAYEVENT:TRUE
SUMMARY:St. Paul's Lutheran School Carnival
DESCRIPTION:St. Paul's Lutheran school is hosting a school carnival. for 5-8pm in the school gymnasium\, 930 Prairie Lane\, Beatrice
X-ALT-DESC;FMTTYPE=text/html:St. Paul&#39\;s Lutheran school is hosting a school carnival. for 5-8pm in the school gymnasium\, 930 Prairie Lane\, Beatrice
LOCATION:
UID:e.41.5283
SEQUENCE:3
DTSTAMP:20260422T202050Z
URL:https://business.beatricechamber.com/events/details/st-paul-s-lutheran-school-carnival-01-21-2012-5283
END:VEVENT

END:VCALENDAR
