BEGIN:VCALENDAR
VERSION:2.0
PRODID:-//ChamberMaster//Event Calendar 2.0//EN
METHOD:PUBLISH
X-PUBLISHED-TTL:P3D
REFRESH-INTERVAL:P3D
CALSCALE:GREGORIAN
BEGIN:VEVENT
DTSTART:20091017T220000Z
DTEND:20091018T003000Z
X-MICROSOFT-CDO-ALLDAYEVENT:FALSE
SUMMARY:St. Paul's Turkey Supper
DESCRIPTION:St. Paul Lutheran Elementary Parent-Teacher League's Turkey Supper \nMenu of Turkey\, Dressing\, Mashed Potatoes & Gravy\, Salad & Pie
X-ALT-DESC;FMTTYPE=text/html:St. Paul Lutheran Elementary Parent-Teacher League's Turkey Supper \nMenu of Turkey\, Dressing\, Mashed Potatoes & Gravy\, Salad & Pie
LOCATION:St. Paul's Lutheran Elementary School 930 Prairie Lane\, Beatrice NE
UID:e.41.1432
SEQUENCE:3
DTSTAMP:20260425T221441Z
URL:https://business.beatricechamber.com/events/details/st-paul-s-turkey-supper-10-17-2009-1432
END:VEVENT

END:VCALENDAR
