BEGIN:VCALENDAR
VERSION:2.0
PRODID:-//ChamberMaster//Event Calendar 2.0//EN
METHOD:PUBLISH
X-PUBLISHED-TTL:P3D
REFRESH-INTERVAL:P3D
CALSCALE:GREGORIAN
BEGIN:VEVENT
DTSTART:20110312T230000Z
DTEND:20110313T010000Z
X-MICROSOFT-CDO-ALLDAYEVENT:FALSE
SUMMARY:St. Peter's Pancake and Sausage Supper
DESCRIPTION:St. Peter's Lutheran Church\n\n\n\nLocation: 304 S. 10th St. in Wymore
X-ALT-DESC;FMTTYPE=text/html:St. Peter&#39\;s Lutheran Church<br />\n<br />\n<strong>Location: </strong>304 S. 10th St. in Wymore
LOCATION:
UID:e.41.4240
SEQUENCE:3
DTSTAMP:20260424T211835Z
URL:https://business.beatricechamber.com/events/details/st-peter-s-pancake-and-sausage-supper-03-12-2011-4240
END:VEVENT

END:VCALENDAR
