BEGIN:VCALENDAR
VERSION:2.0
PRODID:-//ChamberMaster//Event Calendar 2.0//EN
METHOD:PUBLISH
X-PUBLISHED-TTL:P3D
REFRESH-INTERVAL:P3D
CALSCALE:GREGORIAN
BEGIN:VEVENT
DTSTART;VALUE=DATE:20100508
DTEND;VALUE=DATE:20100509
TRANSP:TRANSPARENT
X-MICROSOFT-CDO-ALLDAYEVENT:TRUE
SUMMARY:Stamp Out Hunger Food Drive 5/8/10
DESCRIPTION:National Association of Letter Carriers Stamp out Hunger Food DriveSaturday\, May 8\, 2010 Carriers will pick up non-perishable donations at the time the mail is delivered.  Patrons should leave their donations by their mail box.
X-ALT-DESC;FMTTYPE=text/html:<div><strong><span style="font-size: small">National Association of Letter Carriers Stamp out Hunger Food Drive</span></strong></div><div><strong><span style="font-size: small">Saturday\, May 8\, 2010</span></strong></div><div>&nbsp\;</div><div><span style="font-size: small">Carriers will pick up non-perishable donations at the time the mail is delivered.&nbsp\; Patrons should leave their donations by their mail box.&nbsp\; </span></div>
LOCATION:
UID:e.41.1978
SEQUENCE:3
DTSTAMP:20260425T122915Z
URL:https://business.beatricechamber.com/events/details/stamp-out-hunger-food-drive-5-8-10-05-08-2010-1978
END:VEVENT

END:VCALENDAR
