BEGIN:VCALENDAR
VERSION:2.0
PRODID:-//ChamberMaster//Event Calendar 2.0//EN
METHOD:PUBLISH
X-PUBLISHED-TTL:P3D
REFRESH-INTERVAL:P3D
CALSCALE:GREGORIAN
BEGIN:VEVENT
DTSTART;VALUE=DATE:20111103
DTEND;VALUE=DATE:20111106
TRANSP:TRANSPARENT
X-MICROSOFT-CDO-ALLDAYEVENT:TRUE
SUMMARY:Starlight Candles & Gifts Open House
DESCRIPTION:Starlight Candles and Gifts Holiday Open House\n\n  Come check out  all of our Holiday items. And while your here sample some of Shirley Mae's gourmet fudge\, caramels\, and homemade pies. All of our Shirley Mae's products are made to order\, So place your order for the holidays.
X-ALT-DESC;FMTTYPE=text/html:Starlight Candles and Gifts Holiday Open House<br />\n&nbsp\; Come check out&nbsp\; all of our Holiday items. And while your here sample some of Shirley Mae&#39\;s gourmet fudge\, caramels\, and homemade pies. All of our Shirley Mae&#39\;s products are made to order\, So place your order for the holidays.
LOCATION:417 So 5th Beatrice\, Ne
UID:e.41.5210
SEQUENCE:3
DTSTAMP:20260424T100022Z
URL:https://business.beatricechamber.com/events/details/starlight-candles-gifts-open-house-11-03-2011-5210
END:VEVENT

END:VCALENDAR
