BEGIN:VCALENDAR
VERSION:2.0
PRODID:-//ChamberMaster//Event Calendar 2.0//EN
METHOD:PUBLISH
X-PUBLISHED-TTL:P3D
REFRESH-INTERVAL:P3D
CALSCALE:GREGORIAN
BEGIN:VEVENT
DTSTART;VALUE=DATE:20120323
DTEND;VALUE=DATE:20120324
TRANSP:TRANSPARENT
X-MICROSOFT-CDO-ALLDAYEVENT:TRUE
SUMMARY:State Tornado Drill
DESCRIPTION:State Tornado Drill\n\n\n\nBeatrice\n\nFriday\, March 23\n\n\n\nAs part of the 2012 Nebraska Weather Awareness Week activities.  This week-long observance\, which runs March 19-23\, includes the Wednesday drill as a time for residents\, businesses and industries to test their severe weather emergency preparedness plans. \n\n\n\nThe drill will begin around 10 am with the issuance of a mock tornado warning and activation of outdoor warning devices (sirens) about 10 to 15 minutes later.\n\n\n\nAnother mock tornado warning may be issued sometime around 7 pm the same night and some communities may also choose to activate their warning sirens.
X-ALT-DESC;FMTTYPE=text/html:State Tornado Drill<br />\n<br />\nBeatrice<br />\nFriday\, March 23<br />\n<br />\nAs part of the 2012 Nebraska Weather Awareness Week activities.&nbsp\; This week-long observance\, which runs March 19-23\, includes the Wednesday drill as a time for residents\, businesses and industries to test their severe weather emergency preparedness plans.&nbsp\;<br />\n<br />\nThe drill will begin around 10 am with the issuance of a mock tornado warning and activation of outdoor warning devices (sirens) about 10 to 15 minutes later.<br />\n<br />\nAnother mock tornado warning may be issued sometime around 7 pm the same night and some communities may also choose to activate their warning sirens.<br />\n
LOCATION:
UID:e.41.5416
SEQUENCE:3
DTSTAMP:20260422T171018Z
URL:https://business.beatricechamber.com/events/details/state-tornado-drill-03-23-2012-5416
END:VEVENT

END:VCALENDAR
