BEGIN:VCALENDAR
VERSION:2.0
PRODID:-//ChamberMaster//Event Calendar 2.0//EN
METHOD:PUBLISH
X-PUBLISHED-TTL:P3D
REFRESH-INTERVAL:P3D
CALSCALE:GREGORIAN
BEGIN:VEVENT
DTSTART:20120412T170000Z
DTEND:20120412T230000Z
X-MICROSOFT-CDO-ALLDAYEVENT:FALSE
SUMMARY:Sterling High school and Community Blood Drive
DESCRIPTION:Sterling High School Gym\, 250 Main St.\, Sterling.\n\nFor appoinments\, call 402-866-4761 or go to www.redcrossblood.org
X-ALT-DESC;FMTTYPE=text/html:Sterling High School Gym\, 250 Main St.\, Sterling.<br />\nFor appoinments\, call 402-866-4761 or go to www.redcrossblood.org
LOCATION:
UID:e.41.5471
SEQUENCE:3
DTSTAMP:20260422T155102Z
URL:https://business.beatricechamber.com/events/details/sterling-high-school-and-community-blood-drive-04-12-2012-5471
END:VEVENT

END:VCALENDAR
