BEGIN:VCALENDAR
VERSION:2.0
PRODID:-//ChamberMaster//Event Calendar 2.0//EN
METHOD:PUBLISH
X-PUBLISHED-TTL:P3D
REFRESH-INTERVAL:P3D
CALSCALE:GREGORIAN
BEGIN:VEVENT
DTSTART:20120714T000000Z
DTEND:20120714T000000Z
X-MICROSOFT-CDO-ALLDAYEVENT:FALSE
SUMMARY:Sterling Picnic
DESCRIPTION:Sterling Pasture Blaze 5K Run (ages 12 and up)\; one mile Run/Walk (any age). Call Sarah Bredthauer\, 402-499-3344\, for information.\n\n\n\nCommunity wide garage sales\, 8 a.m. - 4 p.m.
X-ALT-DESC;FMTTYPE=text/html:Sterling Pasture Blaze 5K Run (ages 12 and up)\; one mile Run/Walk (any age). Call Sarah Bredthauer\, 402-499-3344\, for information.<br />\n<br />\nCommunity wide garage sales\, 8 a.m. - 4 p.m.
LOCATION:
UID:e.41.6319
SEQUENCE:3
DTSTAMP:20260422T113611Z
URL:https://business.beatricechamber.com/events/details/sterling-picnic-07-13-2012-6319
END:VEVENT

END:VCALENDAR
