BEGIN:VCALENDAR
VERSION:2.0
PRODID:-//ChamberMaster//Event Calendar 2.0//EN
METHOD:PUBLISH
X-PUBLISHED-TTL:P3D
REFRESH-INTERVAL:P3D
CALSCALE:GREGORIAN
BEGIN:VEVENT
DTSTART;VALUE=DATE:20120713
DTEND;VALUE=DATE:20120714
TRANSP:TRANSPARENT
X-MICROSOFT-CDO-ALLDAYEVENT:TRUE
SUMMARY:Sterling Picnic
DESCRIPTION:Food Stand. Community-wide garage sales\, 8 a.m.-1 p.m. Little Tuggers Tractor Pull. Parade at 4 p.m. Calliope Clowns face painting and balloons. Chicken barbecue\, ice cream and pie\, 5-8 p.m. Kids games. Pony rides. Bingo. \n\nDance to Groove Puppet\, 9 p.m.-1 a.m.
X-ALT-DESC;FMTTYPE=text/html:Food Stand. Community-wide garage sales\, 8 a.m.-1 p.m. Little Tuggers Tractor Pull. Parade at 4 p.m. Calliope Clowns face painting and balloons. Chicken barbecue\, ice cream and pie\, 5-8 p.m. Kids games. Pony rides. Bingo.&nbsp\;<br />\nDance to Groove Puppet\, 9 p.m.-1 a.m.
LOCATION:
UID:e.41.6321
SEQUENCE:3
DTSTAMP:20260422T113611Z
URL:https://business.beatricechamber.com/events/details/sterling-picnic-07-13-2012-6321
END:VEVENT

END:VCALENDAR
