BEGIN:VCALENDAR
VERSION:2.0
PRODID:-//ChamberMaster//Event Calendar 2.0//EN
METHOD:PUBLISH
X-PUBLISHED-TTL:P3D
REFRESH-INTERVAL:P3D
CALSCALE:GREGORIAN
BEGIN:VEVENT
DTSTART:20110717T200000Z
DTEND:20110717T230000Z
X-MICROSOFT-CDO-ALLDAYEVENT:FALSE
SUMMARY:Sterling United Methodist Church Ice Cream Social
DESCRIPTION:Time: 3-6 p.m. at the Sterling United Methodist Church\n\n\n\nHomemade vanilla\, chocolate and strawberry ice cream\, cake and bar cookies\, drinks\; freewill donation.
X-ALT-DESC;FMTTYPE=text/html:Time: 3-6 p.m. at the Sterling United Methodist Church<br />\n<br />\nHomemade vanilla\, chocolate and strawberry ice cream\, cake and bar cookies\, drinks\; freewill donation.
LOCATION:
UID:e.41.4964
SEQUENCE:3
DTSTAMP:20260424T153451Z
URL:https://business.beatricechamber.com/events/details/sterling-united-methodist-church-ice-cream-social-07-17-2011-4964
END:VEVENT

END:VCALENDAR
