BEGIN:VCALENDAR
VERSION:2.0
PRODID:-//ChamberMaster//Event Calendar 2.0//EN
METHOD:PUBLISH
X-PUBLISHED-TTL:P3D
REFRESH-INTERVAL:P3D
CALSCALE:GREGORIAN
BEGIN:VEVENT
DTSTART;VALUE=DATE:20101104
DTEND;VALUE=DATE:20101105
TRANSP:TRANSPARENT
X-MICROSOFT-CDO-ALLDAYEVENT:TRUE
SUMMARY:"Stitch 1\, Read 2:"
DESCRIPTION:"Stitch 1\, Read 2:"\n\n\n\nA library group for needle crafters to work on projects and discuss what books they are reading.\n\n\n\n7 pm.\, Beatrice Public Library
X-ALT-DESC;FMTTYPE=text/html:<strong><span style="font-size: 14px">&quot\;Stitch 1\, Read 2:&quot\;</span></strong><br />\n<br />\nA library group for needle crafters to work on projects and discuss what books they are reading.<br />\n<br />\n7 pm.\, Beatrice Public Library
LOCATION:
UID:e.41.2778
SEQUENCE:3
DTSTAMP:20260425T032342Z
URL:https://business.beatricechamber.com/events/details/stitch-1-read-2-11-04-2010-2778
END:VEVENT

END:VCALENDAR
