BEGIN:VCALENDAR
VERSION:2.0
PRODID:-//ChamberMaster//Event Calendar 2.0//EN
METHOD:PUBLISH
X-PUBLISHED-TTL:P3D
REFRESH-INTERVAL:P3D
CALSCALE:GREGORIAN
BEGIN:VEVENT
DTSTART:20101203T010000Z
DTEND:20101203T010000Z
X-MICROSOFT-CDO-ALLDAYEVENT:FALSE
SUMMARY:"Stitch One\, Read Two" needle crafters
DESCRIPTION:"Stitch One\, Read Two" needle crafters: 7 p.m.\, Beatrice Public Library. An opportunity  for needle crafters to show off and put finishing touches on their holiday needlework projects and to tell about favorite holiday time reading materials.
X-ALT-DESC;FMTTYPE=text/html:<strong>&quot\;Stitch One\, Read Two&quot\; needle crafters:</strong> 7 p.m.\, Beatrice Public Library. An opportunity&nbsp\; for needle crafters to show off and put finishing touches on their holiday needlework projects and to tell about favorite holiday time reading materials.
LOCATION:
UID:e.41.2867
SEQUENCE:3
DTSTAMP:20260425T014133Z
URL:https://business.beatricechamber.com/events/details/stitch-one-read-two-needle-crafters-12-02-2010-2867
END:VEVENT

END:VCALENDAR
