BEGIN:VCALENDAR
VERSION:2.0
PRODID:-//ChamberMaster//Event Calendar 2.0//EN
METHOD:PUBLISH
X-PUBLISHED-TTL:P3D
REFRESH-INTERVAL:P3D
CALSCALE:GREGORIAN
BEGIN:VEVENT
DTSTART:20101117T010000Z
DTEND:20101117T023000Z
X-MICROSOFT-CDO-ALLDAYEVENT:FALSE
SUMMARY:"Stop Diabetes" program
DESCRIPTION:"Stop Diabetes " program:\n\n\n\n7 p.m. - 8:30 p.m.\n\nHomestead Room \, Beatrice Community Hospital and Health Care Center\n\n1110 N. 10th St. Beatrice\n\n\n\nBCHHC Certified Diabetes Educator Kathi Taylor. program is free: no pre-registration required.\n\nRefreshments. for more information\, call Taylor at 223-6758.
X-ALT-DESC;FMTTYPE=text/html:<strong><span style="font-size: 14px">&quot\;Stop Diabetes &quot\; program:</span></strong><br />\n<br />\n7 p.m. - 8:30 p.m.<br />\nHomestead Room \, Beatrice Community Hospital and Health Care Center<br />\n1110 N. 10th St. Beatrice<br />\n<br />\nBCHHC Certified Diabetes Educator Kathi Taylor. program is free: no pre-registration required.<br />\nRefreshments. for more information\, call Taylor at 223-6758.
LOCATION:
UID:e.41.2828
SEQUENCE:3
DTSTAMP:20260425T032336Z
URL:https://business.beatricechamber.com/events/details/stop-diabetes-program-11-16-2010-2828
END:VEVENT

END:VCALENDAR
