BEGIN:VCALENDAR
VERSION:2.0
PRODID:-//ChamberMaster//Event Calendar 2.0//EN
METHOD:PUBLISH
X-PUBLISHED-TTL:P3D
REFRESH-INTERVAL:P3D
CALSCALE:GREGORIAN
BEGIN:VEVENT
DTSTART;VALUE=DATE:20100522
DTEND;VALUE=DATE:20100523
TRANSP:TRANSPARENT
X-MICROSOFT-CDO-ALLDAYEVENT:TRUE
SUMMARY:''Story Behind the Photos'' Homestead Ntl. Monument
DESCRIPTION:"Story Behind the Photos" Saturday\, May 222 p.m.Homestead National Monument of AmericaEducation Center Join Mel Mann\, one of Homestead's 2010 Artist-in-Residence\, for a prgoram exploring the stories behind historic homesteading photographs\, using photography equipment\, photographs\, and background information on the photographer and his/her subjects. For more information\, visit www.nps.gov/ and search for Artist-in-Residence programs.
X-ALT-DESC;FMTTYPE=text/html:<div>&quot\;Story Behind the Photos&quot\;</div><div>&nbsp\;</div><div>Saturday\, May 22</div><div>2 p.m.</div><div>Homestead National Monument of America</div><div>Education Center</div><div>&nbsp\;</div><div>Join Mel Mann\, one of Homestead's 2010 Artist-in-Residence\, for a prgoram exploring the stories behind historic homesteading photographs\, using photography equipment\, photographs\, and background information on the photographer and his/her subjects.</div><div>&nbsp\;</div><div>For more information\, visit <a href="http://www.nps.gov/">www.nps.gov/</a> and search for Artist-in-Residence programs.</div>
LOCATION:
UID:e.41.1999
SEQUENCE:3
DTSTAMP:20260425T123428Z
URL:https://business.beatricechamber.com/events/details/story-behind-the-photos-homestead-ntl-monument-05-22-2010-1999
END:VEVENT

END:VCALENDAR
