BEGIN:VCALENDAR
VERSION:2.0
PRODID:-//ChamberMaster//Event Calendar 2.0//EN
METHOD:PUBLISH
X-PUBLISHED-TTL:P3D
REFRESH-INTERVAL:P3D
CALSCALE:GREGORIAN
BEGIN:VEVENT
DTSTART;VALUE=DATE:20120121
DTEND;VALUE=DATE:20120122
TRANSP:TRANSPARENT
X-MICROSOFT-CDO-ALLDAYEVENT:TRUE
SUMMARY:'Strut Your Mutt'
DESCRIPTION:Beatrice Humane Society 'Strut our Mutt' dog show will be held at the 429 facotry\, 923 W. Court st. from 9am-1pm. For more information please contact Kathy Steinkamp at 402-228-1844 or the Beatrice Animal Shelter at 402-228-9100
X-ALT-DESC;FMTTYPE=text/html:Beatrice Humane Society &#39\;Strut our Mutt&#39\; dog show will be held at the 429 facotry\, 923 W. Court st. from 9am-1pm. For more information please contact Kathy Steinkamp at 402-228-1844 or the Beatrice Animal Shelter at 402-228-9100
LOCATION:
UID:e.41.5277
SEQUENCE:3
DTSTAMP:20260422T201854Z
URL:https://business.beatricechamber.com/events/details/strut-your-mutt-01-21-2012-5277
END:VEVENT

END:VCALENDAR
