BEGIN:VCALENDAR
VERSION:2.0
PRODID:-//ChamberMaster//Event Calendar 2.0//EN
METHOD:PUBLISH
X-PUBLISHED-TTL:P3D
REFRESH-INTERVAL:P3D
CALSCALE:GREGORIAN
BEGIN:VEVENT
DTSTART:20110722T150000Z
DTEND:20110722T210000Z
X-MICROSOFT-CDO-ALLDAYEVENT:FALSE
SUMMARY:"Stuff the Bus" with School Supplies
DESCRIPTION:The community's help is needed.  Starting July 1\, the following drop-off locations will be available for individuals to drop off new school supplies: The Beatrice Public Library\, East Court Dairy Queen\, and West Court Dairy Queen.  Coordinators are asking Gage County businesses/organizations to collect donated items from employees/members and "Stuff the Bus" at the Wal-Mart parking lot on July 22 or July 29 from 10 a.m.-4 p.m.\n\n\n\nMonetary donations are also accepted.  Checks can be written to "Stuff the Bus/The Salvation Army" and mailed to Stuff the Bus\, c/o The Salvation Army\, PO Box 225\, Beatrice\, NE 68310.
X-ALT-DESC;FMTTYPE=text/html:The community&#39\;s help is needed.&nbsp\; Starting July 1\, the following drop-off locations will be available for individuals to drop off new school supplies: The Beatrice Public Library\, East Court Dairy Queen\, and West Court Dairy Queen.&nbsp\; Coordinators are asking Gage County businesses/organizations to collect donated items from employees/members and &quot\;Stuff the Bus&quot\; at the Wal-Mart parking lot on July 22 or July 29 from 10 a.m.-4 p.m.<br />\n<br />\nMonetary donations are also accepted.&nbsp\; Checks can be written to &quot\;Stuff the Bus/The Salvation Army&quot\; and mailed to Stuff the Bus\, c/o The Salvation Army\, PO Box 225\, Beatrice\, NE 68310.
LOCATION:
UID:e.41.4951
SEQUENCE:3
DTSTAMP:20260424T155331Z
URL:https://business.beatricechamber.com/events/details/stuff-the-bus-with-school-supplies-07-22-2011-4951
END:VEVENT

END:VCALENDAR
