BEGIN:VCALENDAR
VERSION:2.0
PRODID:-//ChamberMaster//Event Calendar 2.0//EN
METHOD:PUBLISH
X-PUBLISHED-TTL:P3D
REFRESH-INTERVAL:P3D
CALSCALE:GREGORIAN
BEGIN:VEVENT
DTSTART:20120509T193000Z
DTEND:20120509T210000Z
X-MICROSOFT-CDO-ALLDAYEVENT:FALSE
SUMMARY:Suicide Prevention Class
DESCRIPTION:A suicide prevention training class is scheduled for Wednesday\, May 9 at 2:30 pm until 4 pm at the Hevelone Center in Beatrice High School\, 600 Blvd.\n\nPreregistration is available at www.gagecountymaps.org. Interested people also may call Christina Lyons\, 402-239-3570\; or Kate Speck\, 402-472-0501.\n\n\n\nFor more information on this topic\, visit www.suicideprevention.nebraska.edu.
X-ALT-DESC;FMTTYPE=text/html:A suicide&nbsp\;prevention training class&nbsp\;is&nbsp\;scheduled&nbsp\;for Wednesday\, May 9 at 2:30 pm until 4 pm at the Hevelone Center in Beatrice High School\, 600 Blvd.<br />\nPreregistration&nbsp\;is available at <a href="http://www.gagecountymaps.org">www.gagecountymaps.org</a>.&nbsp\;Interested people also may call Christina Lyons\, 402-239-3570\; or Kate Speck\, 402-472-0501.<br />\n<br />\nFor more&nbsp\;information&nbsp\;on this topic\, visit <a href="http://www.suicideprevention.nebraska.edu">www.suicideprevention.nebraska.edu</a>.<br />\n
LOCATION:
UID:e.41.5704
SEQUENCE:3
DTSTAMP:20260422T142125Z
URL:https://business.beatricechamber.com/events/details/suicide-prevention-class-05-09-2012-5704
END:VEVENT

END:VCALENDAR
