BEGIN:VCALENDAR
VERSION:2.0
PRODID:-//ChamberMaster//Event Calendar 2.0//EN
METHOD:PUBLISH
X-PUBLISHED-TTL:P3D
REFRESH-INTERVAL:P3D
CALSCALE:GREGORIAN
BEGIN:VEVENT
DTSTART;VALUE=DATE:20110109
DTEND;VALUE=DATE:20110110
TRANSP:TRANSPARENT
X-MICROSOFT-CDO-ALLDAYEVENT:TRUE
SUMMARY:Sunday Buffet - Wymore American Legion
DESCRIPTION:Wymore American Legion - Sunday Buffet\n\n\n\nJanuary 9\n\n11 a.m. - 1 p.m.\n\n\n\nChicken and roast beef with all the trimmings. \n\n\n\nMeal is $8 for adults and $4.50 for children under age 12.  Carry-out meals are available.
X-ALT-DESC;FMTTYPE=text/html:Wymore American Legion - Sunday Buffet<br />\n<br />\nJanuary 9<br />\n11 a.m. - 1 p.m.<br />\n<br />\nChicken and roast beef with all the trimmings.&nbsp\;<br />\n<br />\nMeal is $8 for adults and $4.50 for children under age 12.&nbsp\; Carry-out meals are available.
LOCATION:
UID:e.41.3151
SEQUENCE:3
DTSTAMP:20260425T003855Z
URL:https://business.beatricechamber.com/events/details/sunday-buffet-wymore-american-legion-01-09-2011-3151
END:VEVENT

END:VCALENDAR
