BEGIN:VCALENDAR
VERSION:2.0
PRODID:-//ChamberMaster//Event Calendar 2.0//EN
METHOD:PUBLISH
X-PUBLISHED-TTL:P3D
REFRESH-INTERVAL:P3D
CALSCALE:GREGORIAN
BEGIN:VEVENT
DTSTART:20120606T230000Z
DTEND:20120607T010000Z
X-MICROSOFT-CDO-ALLDAYEVENT:FALSE
SUMMARY:Support Doug Klaus for Mr. Homesteader
DESCRIPTION:Support Beatrice Rotary Club Candidate Doug Klaus for Mr. Homesteader\n\n\n\nPlease join us for: Valentino's Guest Server Night\n\n\n\nJune 6\, 2012 6-8:00 p.m.\n\nwww.mrhomesteader.com\n\n\n\nTips and a percentage of evening sales donated by Valentino's to support Blue Valley Behavioral Health
X-ALT-DESC;FMTTYPE=text/html:Support Beatrice Rotary Club Candidate Doug Klaus for&nbsp\;Mr. Homesteader<br />\n<br />\nPlease join us for: Valentino&#39\;s&nbsp\;Guest Server Night<br />\n<br />\nJune 6\,&nbsp\;2012 6-8:00 p.m.<br />\nwww.mrhomesteader.com<br />\n<br />\nTips and a percentage of evening&nbsp\;sales donated by&nbsp\;Valentino&#39\;s&nbsp\;to support Blue&nbsp\;Valley Behavioral Health
LOCATION:
UID:e.41.5725
SEQUENCE:3
DTSTAMP:20260422T131230Z
URL:https://business.beatricechamber.com/events/details/support-doug-klaus-for-mr-homesteader-06-06-2012-5725
END:VEVENT

END:VCALENDAR
