BEGIN:VCALENDAR
VERSION:2.0
PRODID:-//ChamberMaster//Event Calendar 2.0//EN
METHOD:PUBLISH
X-PUBLISHED-TTL:P3D
REFRESH-INTERVAL:P3D
CALSCALE:GREGORIAN
BEGIN:VEVENT
DTSTART:20110416T230000Z
DTEND:20110417T010000Z
X-MICROSOFT-CDO-ALLDAYEVENT:FALSE
SUMMARY:Taste of Spring
DESCRIPTION:Main Street Beatrice presents:\n\nTaste of Spring\n\n\n\nSaturday\, April 16\n\n6-8 p.m.\n\n\n\nFor information & reservations call Main Street Beatrice\, (402)223-3244
X-ALT-DESC;FMTTYPE=text/html:Main Street Beatrice presents:<br />\nTaste of Spring<br />\n<br />\nSaturday\, April 16<br />\n6-8 p.m.<br />\n<br />\nFor information &amp\; reservations call Main Street Beatrice\, (402)223-3244
LOCATION:
UID:e.41.4192
SEQUENCE:3
DTSTAMP:20260424T195046Z
URL:https://business.beatricechamber.com/events/details/taste-of-spring-04-16-2011-4192
END:VEVENT

END:VCALENDAR
