BEGIN:VCALENDAR
VERSION:2.0
PRODID:-//ChamberMaster//Event Calendar 2.0//EN
METHOD:PUBLISH
X-PUBLISHED-TTL:P3D
REFRESH-INTERVAL:P3D
CALSCALE:GREGORIAN
BEGIN:VEVENT
DTSTART;VALUE=DATE:20110504
DTEND;VALUE=DATE:20110505
TRANSP:TRANSPARENT
X-MICROSOFT-CDO-ALLDAYEVENT:TRUE
SUMMARY:Teacher Retirement Celebration
DESCRIPTION:The Beatrice Education Association will host a retirement celebration for three Beatrice Public Schools teachers retiring at the end of the school year.\n\n	\n\n	Wednesday\, May 4\n\n	Prima Vera Room\, Valentino's\n\n	4 - 6 pm\n\n	\n\n	Early childhoold preschool teacher\, Diane Ruyle\, middle school science teacher Sam Dierberger and high school guidance counselor Carla Meyer will be honored at the event.
X-ALT-DESC;FMTTYPE=text/html:<p>\n	The Beatrice Education Association will host a retirement celebration for three Beatrice Public Schools teachers retiring at the end of the school year.<br />\n	<br />\n	Wednesday\, May 4<br />\n	Prima Vera Room\, Valentino&#39\;s<br />\n	4 - 6 pm<br />\n	<br />\n	Early childhoold preschool teacher\, Diane Ruyle\, middle school science teacher Sam Dierberger and high school guidance counselor Carla Meyer will be honored at the event.</p>\n
LOCATION:
UID:e.41.4594
SEQUENCE:3
DTSTAMP:20260424T182452Z
URL:https://business.beatricechamber.com/events/details/teacher-retirement-celebration-05-04-2011-4594
END:VEVENT

END:VCALENDAR
