BEGIN:VCALENDAR
VERSION:2.0
PRODID:-//ChamberMaster//Event Calendar 2.0//EN
METHOD:PUBLISH
X-PUBLISHED-TTL:P3D
REFRESH-INTERVAL:P3D
CALSCALE:GREGORIAN
BEGIN:VEVENT
DTSTART;VALUE=DATE:20100403
DTEND;VALUE=DATE:20100404
TRANSP:TRANSPARENT
X-MICROSOFT-CDO-ALLDAYEVENT:TRUE
SUMMARY:TeamMates Alumni Tourney 4/3/10
DESCRIPTION:Alumni Basketball Tournamenthosted by TeamMates Mentoring Program for all former Beatrice High School athletes Saturday\, April 3\, 20108 a.m. - 4:30 p.m. Admission for the tournament will be a free-will donation.
X-ALT-DESC;FMTTYPE=text/html:<div>Alumni Basketball Tournament</div><div>hosted by TeamMates Mentoring Program</div><div>&nbsp\;</div><div>for all former Beatrice High School athletes</div><div>&nbsp\;</div><div>Saturday\, April 3\, 2010</div><div>8 a.m. - 4:30 p.m.</div><div>&nbsp\;</div><div>Admission for the tournament will be a free-will donation.</div>
LOCATION:
UID:e.41.1950
SEQUENCE:3
DTSTAMP:20260425T135316Z
URL:https://business.beatricechamber.com/events/details/teammates-alumni-tourney-4-3-10-04-03-2010-1950
END:VEVENT

END:VCALENDAR
