BEGIN:VCALENDAR
VERSION:2.0
PRODID:-//ChamberMaster//Event Calendar 2.0//EN
METHOD:PUBLISH
X-PUBLISHED-TTL:P3D
REFRESH-INTERVAL:P3D
CALSCALE:GREGORIAN
BEGIN:VEVENT
DTSTART;VALUE=DATE:20110329
DTEND;VALUE=DATE:20110330
TRANSP:TRANSPARENT
X-MICROSOFT-CDO-ALLDAYEVENT:TRUE
SUMMARY:Teammates Day
DESCRIPTION:Beatrice Runza Restaurant and other Runza restaurants across Nebraska and Iowa will be donating 10 percent of all proceeds to the TeamMates Mentoring Program*.\n\n\n\nTo become a mentor\, go to www.teammates.org\, or call 402-223-5268 and ask for Joni\n\n\n\n*The TeamMates Mentoring Program was founded in 1991 by Tom and Nancy Osborne to provide support and encouragement to school aged youth TeamMates is serving over 4\,000 youth in 115 communities across Nebraska and Iowa. Mentors meet one hour per week at the school to provide support and encouragement to youth.
X-ALT-DESC;FMTTYPE=text/html:Beatrice Runza Restaurant and other Runza restaurants across Nebraska and Iowa will be donating 10 percent of all proceeds to the TeamMates Mentoring Program*.<br />\n<br />\nTo become a mentor\, go to www.teammates.org\, or call 402-223-5268 and ask for Joni<br />\n<br />\n*The TeamMates Mentoring Program was founded in 1991 by Tom and Nancy Osborne to provide support and encouragement to school aged youth TeamMates is serving over 4\,000 youth in 115 communities across Nebraska and Iowa. Mentors meet one hour per week at the school to provide support and encouragement to youth.
LOCATION:
UID:e.41.4211
SEQUENCE:3
DTSTAMP:20260424T211541Z
URL:https://business.beatricechamber.com/events/details/teammates-day-03-29-2011-4211
END:VEVENT

END:VCALENDAR
