BEGIN:VCALENDAR
VERSION:2.0
PRODID:-//ChamberMaster//Event Calendar 2.0//EN
METHOD:PUBLISH
X-PUBLISHED-TTL:P3D
REFRESH-INTERVAL:P3D
CALSCALE:GREGORIAN
BEGIN:VEVENT
DTSTART:20091024T000000Z
DTEND:20091024T010000Z
X-MICROSOFT-CDO-ALLDAYEVENT:FALSE
SUMMARY:TeamMates Fundraiser for Beatrice & Norris
DESCRIPTION:TeamMates from Beatrice and Firth Norris will be passing the football in order ot help pass on the TeamMates one-on-one mentioning legacy Friday during the Beatrice/Norris football game at athletic park.  Prior to the 7 pm kickoff\, TeamMates will be raffling off chances to win tickets to the Nebraska-Kansas State football game.  Tickets will be $1 each or six for $5. At halftime there will be a passing challenge between Beatrice and Norris TeamMates.The team winning the passing challenge will draw another raffle ticket for two Nebraska volleyball tickets to the Colorado game. For more information on Beatrice TeamMates program\, call Joni Bruhn at 223-5268
X-ALT-DESC;FMTTYPE=text/html:<div>TeamMates from Beatrice and Firth Norris will be passing the football in order ot help pass on the TeamMates one-on-one mentioning legacy Friday during the Beatrice/Norris football game at athletic park.&nbsp\;</div><div>&nbsp\;</div><div>Prior to the 7 pm kickoff\, TeamMates will be raffling off chances to win tickets to the Nebraska-Kansas State football game.&nbsp\; Tickets will be $1 each or six for $5.</div><div>&nbsp\;</div><div>At halftime there will be a passing challenge between Beatrice and Norris TeamMates.</div><div>The team winning the passing challenge will draw another raffle ticket for two Nebraska volleyball tickets to the Colorado game.</div><div>&nbsp\;</div><div>For more information on Beatrice TeamMates program\, call Joni Bruhn at 223-5268</div>
LOCATION:
UID:e.41.1494
SEQUENCE:3
DTSTAMP:20260425T222221Z
URL:https://business.beatricechamber.com/events/details/teammates-fundraiser-for-beatrice-norris-10-23-2009-1494
END:VEVENT

END:VCALENDAR
