BEGIN:VCALENDAR
VERSION:2.0
PRODID:-//ChamberMaster//Event Calendar 2.0//EN
METHOD:PUBLISH
X-PUBLISHED-TTL:P3D
REFRESH-INTERVAL:P3D
CALSCALE:GREGORIAN
BEGIN:VEVENT
DTSTART:20090714T170000Z
DTEND:20090714T223000Z
X-MICROSOFT-CDO-ALLDAYEVENT:FALSE
SUMMARY:TeamMates Training Sessions
DESCRIPTION:Two One-Hour Training Sessions to learn about becoming a mentor for a student and the TeamMate mentoring program will be heldTuesday\, July 14th at St John Lutheran Church\, 6th & Washington StreetNoon and 5:30 pm People Interested in becoming a mentor who cannot attend these workshops can contact Joni Bruhn at 223-5268
X-ALT-DESC;FMTTYPE=text/html:<div>Two One-Hour Training Sessions to learn about becoming a mentor for a student and the TeamMate mentoring program will be held</div><div>Tuesday\, July 14th at St John Lutheran Church\, 6th &amp\;&nbsp\;Washington Street</div><div>Noon and 5:30 pm</div><div>&nbsp\;</div><div>People Interested in becoming a mentor who cannot attend these workshops can contact Joni Bruhn at 223-5268</div>
LOCATION:
UID:e.41.1288
SEQUENCE:3
DTSTAMP:20260426T024839Z
URL:https://business.beatricechamber.com/events/details/teammates-training-sessions-07-14-2009-1288
END:VEVENT

END:VCALENDAR
