BEGIN:VCALENDAR
VERSION:2.0
PRODID:-//ChamberMaster//Event Calendar 2.0//EN
METHOD:PUBLISH
X-PUBLISHED-TTL:P3D
REFRESH-INTERVAL:P3D
CALSCALE:GREGORIAN
BEGIN:VEVENT
DTSTART:20110618T020000Z
DTEND:20110618T050000Z
X-MICROSOFT-CDO-ALLDAYEVENT:FALSE
SUMMARY:Teen Street Dance
DESCRIPTION:Teen Street Dance from 9p.m.-midnight at Charles Park\, Beatrice.  Sponsored by American Red Cross Southeast Nebraska Chapter.\n\n\n\n$5 per person and music provided by DJ.
X-ALT-DESC;FMTTYPE=text/html:Teen Street Dance from 9p.m.-midnight at Charles Park\, Beatrice.&nbsp\; Sponsored by American Red Cross Southeast Nebraska Chapter.<br />\n<br />\n$5 per person and music provided by DJ.
LOCATION:
UID:e.41.4896
SEQUENCE:3
DTSTAMP:20260424T165906Z
URL:https://business.beatricechamber.com/events/details/teen-street-dance-06-17-2011-4896
END:VEVENT

END:VCALENDAR
