BEGIN:VCALENDAR
VERSION:2.0
PRODID:-//ChamberMaster//Event Calendar 2.0//EN
METHOD:PUBLISH
X-PUBLISHED-TTL:P3D
REFRESH-INTERVAL:P3D
CALSCALE:GREGORIAN
BEGIN:VEVENT
DTSTART:20100324T173000Z
DTEND:20100324T200000Z
X-MICROSOFT-CDO-ALLDAYEVENT:FALSE
SUMMARY:Teleconference - ''Cancer and End-of-Life Care''
DESCRIPTION:"Cancer and End-of-Life Care"Living with Grief Teleconference Sponsored by Hospice Foundation of America\,Hosted by Beatrice Community Hospital Hospice 12:30 p.m. - 3 p.m.March 24\, 2010Free admission\, Continuing Education credits are available for a fee. Parkview Conference Center1216 S. 8thBeatrice\, NE For more information\, contact Paul Jensen\, Beatrice Community Hospital Hospice coordinator\, 223-2366
X-ALT-DESC;FMTTYPE=text/html:<div>&quot\;Cancer and End-of-Life Care&quot\;</div><div>Living with Grief Teleconference</div><div>&nbsp\;</div><div>Sponsored by Hospice Foundation of America\,</div><div>Hosted by Beatrice Community Hospital Hospice</div><div>&nbsp\;</div><div>12:30 p.m. - 3 p.m.</div><div>March 24\, 2010</div><div>Free admission\, Continuing Education credits are available for a fee.</div><div>&nbsp\;</div><div>Parkview Conference Center</div><div>1216 S. 8th</div><div>Beatrice\, NE</div><div>&nbsp\;</div><div>For more information\, contact Paul Jensen\, Beatrice Community Hospital Hospice coordinator\, 223-2366</div>
LOCATION:
UID:e.41.1683
SEQUENCE:3
DTSTAMP:20260425T153441Z
URL:https://business.beatricechamber.com/events/details/teleconference-cancer-and-end-of-life-care-03-24-2010-1683
END:VEVENT

END:VCALENDAR
