BEGIN:VCALENDAR
VERSION:2.0
PRODID:-//ChamberMaster//Event Calendar 2.0//EN
METHOD:PUBLISH
X-PUBLISHED-TTL:P3D
REFRESH-INTERVAL:P3D
CALSCALE:GREGORIAN
BEGIN:VEVENT
DTSTART:20110612T190000Z
DTEND:20110612T210000Z
X-MICROSOFT-CDO-ALLDAYEVENT:FALSE
SUMMARY:Tex & mary Schultz Concert
DESCRIPTION:2-4 p.m.  Zion Lutheran Church Parish Hall\, rural Pickrell.  For more information\, call 402-228-0137.
X-ALT-DESC;FMTTYPE=text/html:2-4 p.m.&nbsp\; Zion Lutheran Church Parish Hall\, rural Pickrell.&nbsp\; For more information\, call 402-228-0137.
LOCATION:
UID:e.41.4863
SEQUENCE:3
DTSTAMP:20260424T165610Z
URL:https://business.beatricechamber.com/events/details/tex-mary-schultz-concert-06-12-2011-4863
END:VEVENT

END:VCALENDAR
