BEGIN:VCALENDAR
VERSION:2.0
PRODID:-//ChamberMaster//Event Calendar 2.0//EN
METHOD:PUBLISH
X-PUBLISHED-TTL:P3D
REFRESH-INTERVAL:P3D
CALSCALE:GREGORIAN
BEGIN:VEVENT
DTSTART:20100606T190000Z
DTEND:20100606T210000Z
X-MICROSOFT-CDO-ALLDAYEVENT:FALSE
SUMMARY:Tex & Mary Schutz Music
DESCRIPTION:Tex & Mary Schutz Music Sunday\, June 62 - 4 p.m. Zion Lutheran Parrish Hallrural Pickrell Cost:  $6 per person\, 10 and under free.  Door prizes and refreshments. For more information\, call 228-0137 or 988-4825
X-ALT-DESC;FMTTYPE=text/html:<div><span style="font-size: medium">Tex &amp\;&nbsp\;Mary Schutz Music</span></div><div>&nbsp\;</div><div><span style="font-size: medium">Sunday\, June 6</span></div><div><span style="font-size: medium">2 - 4 p.m.</span></div><div>&nbsp\;</div><div><span style="font-size: small">Zion Lutheran Parrish Hall</span></div><div><span style="font-size: small">rural Pickrell</span></div><div><span style="font-size: small">&nbsp\;</span></div><div><span style="font-size: small">Cost:&nbsp\; $6 per person\, 10 and under free.&nbsp\; Door prizes and refreshments.</span></div><div><span style="font-size: small">&nbsp\;</span></div><div><span style="font-size: small">For more information\, call 228-0137 or 988-4825</span></div>
LOCATION:
UID:e.41.1998
SEQUENCE:3
DTSTAMP:20260425T105453Z
URL:https://business.beatricechamber.com/events/details/tex-mary-schutz-music-06-06-2010-1998
END:VEVENT

END:VCALENDAR
