BEGIN:VCALENDAR
VERSION:2.0
PRODID:-//ChamberMaster//Event Calendar 2.0//EN
METHOD:PUBLISH
X-PUBLISHED-TTL:P3D
REFRESH-INTERVAL:P3D
CALSCALE:GREGORIAN
BEGIN:VEVENT
DTSTART:20120426T220000Z
DTEND:20120427T010000Z
X-MICROSOFT-CDO-ALLDAYEVENT:FALSE
SUMMARY:The 4th Annual A Night of Pampering with a Purpose
DESCRIPTION:Take some time to indulge and join Beatrice Family Chiropractic for A Night of Pampering.  For only $5.00\, you will receive treatment\, tips\, and all the tools you need for a relaxing\, rejuvenating evening from some of the area's premier product and service providers.  If you are one of the first 50 attendees to arrive for A Night of Pampering\, you will be provided with a gift bag filled with items supplied by those in the community who know what pampering is all about.  A silent auction will be held throughout the evening!  In addition\, each attendee present for A Night of Pmpering will also be entered into a drawing for a grand prize.  You deserve a break\, and the time to indulge in a A Night of Pampering!
X-ALT-DESC;FMTTYPE=text/html:Take some time to indulge and join Beatrice Family Chiropractic for A Night of Pampering.&nbsp\; For only $5.00\, you will receive treatment\, tips\, and all the tools you need for a relaxing\, rejuvenating evening from some of the area&#39\;s premier product and service providers.&nbsp\; If you are one of the first 50 attendees to arrive for A Night of Pampering\, you will be provided with a gift bag filled with items supplied by those in the community who know what pampering is all about.&nbsp\; A silent auction will be held throughout the evening!&nbsp\; In addition\, each attendee present for A Night of Pmpering will also be entered into a drawing for a grand prize.&nbsp\; You deserve a break\, and the time to indulge in a A Night of Pampering!
LOCATION:Beatrice Family Chiropractic\, 2526 E. Court St.\, Beatrice\, NE 68310
UID:e.41.5336
SEQUENCE:3
DTSTAMP:20260422T155134Z
URL:https://business.beatricechamber.com/events/details/the-4th-annual-a-night-of-pampering-with-a-purpose-04-26-2012-5336
END:VEVENT

END:VCALENDAR
