BEGIN:VCALENDAR
VERSION:2.0
PRODID:-//ChamberMaster//Event Calendar 2.0//EN
METHOD:PUBLISH
X-PUBLISHED-TTL:P3D
REFRESH-INTERVAL:P3D
CALSCALE:GREGORIAN
BEGIN:VEVENT
DTSTART;VALUE=DATE:20110211
DTEND;VALUE=DATE:20110213
TRANSP:TRANSPARENT
X-MICROSOFT-CDO-ALLDAYEVENT:TRUE
SUMMARY:"The Art of Marriage" Class
DESCRIPTION:"The Art of Marriage" Class\n\nheld at Beatrice Community Church\n\npresented by Family Life\n\n\n\nThe conference will be held Friday\, February 11th from 7-9:30 p.m. and Saturday\, February 12th from 9 a.m. - 4 p.m.\n\n\n\nthe Art of Marriage brings together respected and influential pastors and experts on marriage and family in one setting.  It also brings a fresh approach to a video event by weaving together some of the follwing elements to help couples fully experience God's design for marriage:  *engaging stories *real-life testimonies *man-on-the-street interviews *humorous vignettes\n\n\n\nThe cost if $49 per couple which includes snacks both days and lunch on Saturday.  To register\, contact Pastor Dan Martin at 402-239-6975 by Feb. 1.  For more information\, visit www.theartofmarriage.com
X-ALT-DESC;FMTTYPE=text/html:&quot\;The Art of Marriage&quot\; Class<br />\nheld at Beatrice Community Church<br />\npresented by Family Life<br />\n<br />\nThe conference will be held Friday\, February 11th from 7-9:30 p.m. and Saturday\, February 12th from 9 a.m. - 4 p.m.<br />\n<br />\nthe Art of Marriage brings together respected and influential pastors and experts on marriage and family in one setting.&nbsp\; It also brings a fresh approach to a video event by weaving together some of the follwing elements to help couples fully experience God&#39\;s design for marriage:&nbsp\; *engaging stories *real-life testimonies *man-on-the-street interviews *humorous vignettes<br />\n<br />\nThe cost if $49 per couple which includes snacks both days and lunch on Saturday.&nbsp\; To register\, contact Pastor Dan Martin at 402-239-6975 by Feb. 1.&nbsp\; For more information\, visit www.theartofmarriage.com<br />\n
LOCATION:
UID:e.41.3283
SEQUENCE:3
DTSTAMP:20260424T225755Z
URL:https://business.beatricechamber.com/events/details/the-art-of-marriage-class-02-11-2011-3283
END:VEVENT

END:VCALENDAR
