BEGIN:VCALENDAR
VERSION:2.0
PRODID:-//ChamberMaster//Event Calendar 2.0//EN
METHOD:PUBLISH
X-PUBLISHED-TTL:P3D
REFRESH-INTERVAL:P3D
CALSCALE:GREGORIAN
BEGIN:VEVENT
DTSTART:20110310T163000Z
DTEND:20110310T163000Z
X-MICROSOFT-CDO-ALLDAYEVENT:FALSE
SUMMARY:The Bargin Box 50th Anniversary
DESCRIPTION:Celebrating 50 years in the Beatrice Community
X-ALT-DESC;FMTTYPE=text/html:Celebrating 50 years in the Beatrice Community
LOCATION:117 S. 5th St.
UID:e.41.4210
SEQUENCE:3
DTSTAMP:20260424T211734Z
URL:https://business.beatricechamber.com/events/details/the-bargin-box-50th-anniversary-03-10-2011-4210
END:VEVENT

END:VCALENDAR
