BEGIN:VCALENDAR
VERSION:2.0
PRODID:-//ChamberMaster//Event Calendar 2.0//EN
METHOD:PUBLISH
X-PUBLISHED-TTL:P3D
REFRESH-INTERVAL:P3D
CALSCALE:GREGORIAN
BEGIN:VEVENT
DTSTART;VALUE=DATE:20110517
DTEND;VALUE=DATE:20110518
TRANSP:TRANSPARENT
X-MICROSOFT-CDO-ALLDAYEVENT:TRUE
SUMMARY:The Beatrice Regional Orchestra concert
DESCRIPTION:The Beatrice Regional Orchestra will present its final concert of the 2010-2011 season on May 17 at 7 p.m.\n\nIt will feature music of American composers and is titled "Made in America".\n\nThe orchestra also conducted a Senior Solo Competition for high school seniors in the area and will feature one vocalist and one instrumentalist who will be performing with the orchestra.\n\nShelby Leiker from Norris High School is the vocalist and Curtis Reynolds from Tri Country High School is the instrumentalist.
X-ALT-DESC;FMTTYPE=text/html:The Beatrice Regional Orchestra will present its final concert of the 2010-2011 season on May 17 at 7 p.m.<br />\nIt will feature music of American composers and is titled &quot\;Made in America&quot\;.<br />\nThe orchestra also conducted a Senior Solo Competition for high school seniors in the area and will feature one vocalist and one instrumentalist who will be performing with the orchestra.<br />\nShelby Leiker from Norris High School is the vocalist and Curtis Reynolds from Tri Country High School is the instrumentalist. 
LOCATION:
UID:e.41.4626
SEQUENCE:3
DTSTAMP:20260424T183426Z
URL:https://business.beatricechamber.com/events/details/the-beatrice-regional-orchestra-concert-05-17-2011-4626
END:VEVENT

END:VCALENDAR
