BEGIN:VCALENDAR
VERSION:2.0
PRODID:-//ChamberMaster//Event Calendar 2.0//EN
METHOD:PUBLISH
X-PUBLISHED-TTL:P3D
REFRESH-INTERVAL:P3D
CALSCALE:GREGORIAN
BEGIN:VEVENT
DTSTART:20120901T190000Z
DTEND:20120901T190000Z
X-MICROSOFT-CDO-ALLDAYEVENT:FALSE
SUMMARY:The Big Garden's Lyn Seiser at the Homestead
DESCRIPTION:Seiser\, of Omaha\, will examine the important role of cooperative local food production through community gardens.\n\n\n\n402-223-3514 or www.nps.gov/home/index.htm
X-ALT-DESC;FMTTYPE=text/html:Seiser\, of Omaha\, will examine the important role of cooperative local food production through community gardens.<br />\n<br />\n402-223-3514 or www.nps.gov/home/index.htm
LOCATION:Homestead National Monument's Education Center
UID:e.41.6620
SEQUENCE:3
DTSTAMP:20260422T091409Z
URL:https://business.beatricechamber.com/events/details/the-big-garden-s-lyn-seiser-at-the-homestead-09-01-2012-6620
END:VEVENT

END:VCALENDAR
